BEGIN:VCALENDAR
VERSION:2.0
PRODID:-//Grace Episcopal Church, Hartford - ECPv6.15.11//NONSGML v1.0//EN
CALSCALE:GREGORIAN
METHOD:PUBLISH
X-WR-CALNAME:Grace Episcopal Church, Hartford
X-ORIGINAL-URL:https://gracehartford.org
X-WR-CALDESC:Events for Grace Episcopal Church, Hartford
REFRESH-INTERVAL;VALUE=DURATION:PT1H
X-Robots-Tag:noindex
X-PUBLISHED-TTL:PT1H
BEGIN:VTIMEZONE
TZID:America/New_York
BEGIN:DAYLIGHT
TZOFFSETFROM:-0500
TZOFFSETTO:-0400
TZNAME:EDT
DTSTART:20240310T070000
END:DAYLIGHT
BEGIN:STANDARD
TZOFFSETFROM:-0400
TZOFFSETTO:-0500
TZNAME:EST
DTSTART:20241103T060000
END:STANDARD
BEGIN:DAYLIGHT
TZOFFSETFROM:-0500
TZOFFSETTO:-0400
TZNAME:EDT
DTSTART:20250309T070000
END:DAYLIGHT
BEGIN:STANDARD
TZOFFSETFROM:-0400
TZOFFSETTO:-0500
TZNAME:EST
DTSTART:20251102T060000
END:STANDARD
BEGIN:DAYLIGHT
TZOFFSETFROM:-0500
TZOFFSETTO:-0400
TZNAME:EDT
DTSTART:20260308T070000
END:DAYLIGHT
BEGIN:STANDARD
TZOFFSETFROM:-0400
TZOFFSETTO:-0500
TZNAME:EST
DTSTART:20261101T060000
END:STANDARD
END:VTIMEZONE
BEGIN:VEVENT
DTSTART;TZID=America/New_York:20250608T000000
DTEND;TZID=America/New_York:20250608T235959
DTSTAMP:20260424T084507
CREATED:20241013T222242Z
LAST-MODIFIED:20241116T212814Z
UID:10001162-1749340800-1749427199@gracehartford.org
SUMMARY:The Day of Pentecost
DESCRIPTION:Year C / IRedEarly or Vigil ServicePsalm 33:12-22 or Canticle 2 or Canticle 13 or Psalm 130 or Canticle 9 or Psalm 104:25-37Genesis 11:1-9 or Exodus 19:1-9a\,16-20a;20:18-20 or Ezekiel 37:1-14 or Joel 2:28-32Acts 2:1-11 or Romans 8:14-17\,22-27John 7:37-39aPrincipal ServicePsalm 104:25-35\,37Acts 2:1-21 or Genesis 11:1-9Romans 8:14-17 or Acts 2:1-21John 14:8-17(25-27)
URL:https://gracehartford.org/event/the-day-of-pentecost-2/
LOCATION:Connecticut
CATEGORIES:Liturgical Calendar
END:VEVENT
BEGIN:VEVENT
DTSTART;TZID=America/New_York:20250608T080000
DTEND;TZID=America/New_York:20250608T090000
DTSTAMP:20260424T084507
CREATED:20241116T212959Z
LAST-MODIFIED:20241116T212959Z
UID:10000045-1749369600-1749373200@gracehartford.org
SUMMARY:Low Mass
DESCRIPTION:Preacher: TBA \n\n\n\nOur 8AM service is a Low Mass. We use Rite I from the 1979 Book of Common Prayer\, with additions from the historical tradition—all of it is outlined in the Bulletin. We leave room for silence and contemplation\, and there is no music at this service. A refreshing start to a Sunday. \n\n\n\nFor more information about Low Mass\, click here: Services
URL:https://gracehartford.org/event/low-mass/2025-06-08/
LOCATION:Connecticut
CATEGORIES:Services
END:VEVENT
BEGIN:VEVENT
DTSTART;TZID=America/New_York:20250608T103000
DTEND;TZID=America/New_York:20250608T120000
DTSTAMP:20260424T084507
CREATED:20250531T135459Z
LAST-MODIFIED:20250607T130517Z
UID:10000306-1749378600-1749384000@gracehartford.org
SUMMARY:Solemn High Mass for The Day of Pentecost ~ Whitsunday
DESCRIPTION:Music: \n\n\n\n\nMass Setting:  Missa brevis ~ Arthur Wills (d. 2020)\n\n\n\nVoluntary: Nun bitten wir den heiligen Geist ~ Dieterich Buxtehude (d. 1707)\n\n\n\nHymn 225 (in Procession) ~ “Hail thee\, festival day” ~ Salve festa dies\n\n\n\nIntroit (choir) ~ Spiritus Domini ~ Mode VIII\n\n\n\nThe Gradual:  Psalm 104 ~ Benedic\, anima mea ~ Tone III.5\n\n\n\nAlleluia ~ Emitte Spiritum tuum ~ Mode II\n\n\n\nSequence (choir) ~ Veni\, Sancte Spiritus ~ Mode I\n\n\n\nOffertory (choir) ~ Confirma hoc\, Deus ~ Mode IV\n\n\n\nMotet (choir) ~ If Ye Love Me ~ Thomas Tallis (d. 1585)\n\n\n\nCommunion (choir) ~ Factus est repente ~ Mode VII\n\n\n\nAnthem (choir) ~ Draw us in the Spirit’s tether ~ Harold W. Friedell (d. 1958)\n\n\n\nRegina cœli (choir) ~ Gregor Aichinger (d. 1628)\n\n\n\nHymn 412 ~ “Earth and All Stars” ~ Earth and All Stars\n\n\n\nVoluntary:  Fantasia on Komm\, Gott\, Schoepfer\, heiliger Geist ~ Johann Sebastian Bach (d. 1750)\n\n\n\n\nPreacher: The Rev. Rowena J. Kemp\, Rector \n\n\n\nOur 10:30 service is a Sung Mass or Solemn High Mass with music: organ\, choir\, and congregational singing. We use Rite I from the 1979 Book of Common Prayer\, with additions from the historical tradition—all of it is outlined in the bulletin.  \n\n\n\nFor more information about Sung Mass\, click here: Services \n\n\n\nThis service will be livestreamed on our Facebook page.  \n\n\n\n2025-06-08 Pentecost CDownload
URL:https://gracehartford.org/event/sung-mass-32/
LOCATION:Connecticut
CATEGORIES:Services
END:VEVENT
BEGIN:VEVENT
DTSTART;TZID=America/New_York:20250611T000000
DTEND;TZID=America/New_York:20250611T235959
DTSTAMP:20260424T084507
CREATED:20241013T222242Z
LAST-MODIFIED:20241116T212814Z
UID:10001163-1749600000-1749686399@gracehartford.org
SUMMARY:Saint Barnabas the Apostle
DESCRIPTION:Year C / IOrdinary TimeRedPsalm 112Isaiah 42:5-12Acts 11:19-30;13:1-3Matthew 10:7-16
URL:https://gracehartford.org/event/saint-barnabas-the-apostle-2/
LOCATION:Connecticut
CATEGORIES:Liturgical Calendar
END:VEVENT
BEGIN:VEVENT
DTSTART;TZID=America/New_York:20250611T000000
DTEND;TZID=America/New_York:20250611T235959
DTSTAMP:20260424T084507
CREATED:20241013T222242Z
LAST-MODIFIED:20241116T212814Z
UID:10001164-1749600000-1749686399@gracehartford.org
SUMMARY:Ember Day
DESCRIPTION:Year C / IOrdinary TimeGreen
URL:https://gracehartford.org/event/ember-day-16/
LOCATION:Connecticut
CATEGORIES:Liturgical Calendar
END:VEVENT
BEGIN:VEVENT
DTSTART;TZID=America/New_York:20250612T093000
DTEND;TZID=America/New_York:20250612T113000
DTSTAMP:20260424T084507
CREATED:20241116T212959Z
LAST-MODIFIED:20241116T212959Z
UID:10000568-1749720600-1749727800@gracehartford.org
SUMMARY:Food Pantry Distribution
DESCRIPTION:
URL:https://gracehartford.org/event/food-pantry-distribution/2025-06-12/
LOCATION:Connecticut
END:VEVENT
BEGIN:VEVENT
DTSTART;TZID=America/New_York:20250613T000000
DTEND;TZID=America/New_York:20250613T235959
DTSTAMP:20260424T084507
CREATED:20241013T222242Z
LAST-MODIFIED:20241116T212814Z
UID:10001165-1749772800-1749859199@gracehartford.org
SUMMARY:Ember Day
DESCRIPTION:Year C / IOrdinary TimeGreen
URL:https://gracehartford.org/event/ember-day-17/
LOCATION:Connecticut
CATEGORIES:Liturgical Calendar
END:VEVENT
BEGIN:VEVENT
DTSTART;TZID=America/New_York:20250614T000000
DTEND;TZID=America/New_York:20250614T235959
DTSTAMP:20260424T084507
CREATED:20241013T222243Z
LAST-MODIFIED:20241116T212814Z
UID:10001166-1749859200-1749945599@gracehartford.org
SUMMARY:Eve of Trinity Sunday
DESCRIPTION:Year C / IOrdinary TimeGreen
URL:https://gracehartford.org/event/eve-of-trinity-sunday-2/
LOCATION:Connecticut
CATEGORIES:Liturgical Calendar
END:VEVENT
BEGIN:VEVENT
DTSTART;TZID=America/New_York:20250614T000000
DTEND;TZID=America/New_York:20250614T235959
DTSTAMP:20260424T084507
CREATED:20241013T222257Z
LAST-MODIFIED:20241116T212814Z
UID:10001167-1749859200-1749945599@gracehartford.org
SUMMARY:Ember Day
DESCRIPTION:Year C / IOrdinary TimeGreen
URL:https://gracehartford.org/event/ember-day-18/
LOCATION:Connecticut
CATEGORIES:Liturgical Calendar
END:VEVENT
END:VCALENDAR