BEGIN:VCALENDAR
VERSION:2.0
PRODID:-//Grace Episcopal Church, Hartford - ECPv6.15.11//NONSGML v1.0//EN
CALSCALE:GREGORIAN
METHOD:PUBLISH
X-ORIGINAL-URL:https://gracehartford.org
X-WR-CALDESC:Events for Grace Episcopal Church, Hartford
REFRESH-INTERVAL;VALUE=DURATION:PT1H
X-Robots-Tag:noindex
X-PUBLISHED-TTL:PT1H
BEGIN:VTIMEZONE
TZID:America/New_York
BEGIN:DAYLIGHT
TZOFFSETFROM:-0500
TZOFFSETTO:-0400
TZNAME:EDT
DTSTART:20240310T070000
END:DAYLIGHT
BEGIN:STANDARD
TZOFFSETFROM:-0400
TZOFFSETTO:-0500
TZNAME:EST
DTSTART:20241103T060000
END:STANDARD
BEGIN:DAYLIGHT
TZOFFSETFROM:-0500
TZOFFSETTO:-0400
TZNAME:EDT
DTSTART:20250309T070000
END:DAYLIGHT
BEGIN:STANDARD
TZOFFSETFROM:-0400
TZOFFSETTO:-0500
TZNAME:EST
DTSTART:20251102T060000
END:STANDARD
BEGIN:DAYLIGHT
TZOFFSETFROM:-0500
TZOFFSETTO:-0400
TZNAME:EDT
DTSTART:20260308T070000
END:DAYLIGHT
BEGIN:STANDARD
TZOFFSETFROM:-0400
TZOFFSETTO:-0500
TZNAME:EST
DTSTART:20261101T060000
END:STANDARD
END:VTIMEZONE
BEGIN:VEVENT
DTSTART;TZID=America/New_York:20250427T000000
DTEND;TZID=America/New_York:20250427T235959
DTSTAMP:20260424T055039
CREATED:20241013T222204Z
LAST-MODIFIED:20241116T212814Z
UID:10001147-1745712000-1745798399@gracehartford.org
SUMMARY:The Second Sunday of Easter
DESCRIPTION:Year C / IWhitePsalm 118:14-29 or Psalm 150Acts 5:27-32Revelation 1:4-8John 20:19-31
URL:https://gracehartford.org/event/the-second-sunday-of-easter-2/
LOCATION:Connecticut
CATEGORIES:Liturgical Calendar
END:VEVENT
BEGIN:VEVENT
DTSTART;TZID=America/New_York:20250427T080000
DTEND;TZID=America/New_York:20250427T090000
DTSTAMP:20260424T055039
CREATED:20241116T212959Z
LAST-MODIFIED:20241116T212959Z
UID:10000039-1745740800-1745744400@gracehartford.org
SUMMARY:Low Mass
DESCRIPTION:Preacher: TBA \n\n\n\nOur 8AM service is a Low Mass. We use Rite I from the 1979 Book of Common Prayer\, with additions from the historical tradition—all of it is outlined in the Bulletin. We leave room for silence and contemplation\, and there is no music at this service. A refreshing start to a Sunday. \n\n\n\nFor more information about Low Mass\, click here: Services
URL:https://gracehartford.org/event/low-mass/2025-04-27/
LOCATION:Connecticut
CATEGORIES:Services
END:VEVENT
BEGIN:VEVENT
DTSTART;TZID=America/New_York:20250427T103000
DTEND;TZID=America/New_York:20250427T120000
DTSTAMP:20260424T055039
CREATED:20250426T141610Z
LAST-MODIFIED:20250426T143136Z
UID:10000300-1745749800-1745755200@gracehartford.org
SUMMARY:Solemn High Mass for the Second Sunday of Easter ~ Low Sunday
DESCRIPTION:Music: \n\n\n\n\nMass Setting:  Grace Mass ~ Edward Ivor Wagner\, 1987\n\n\n\nVoluntary:  Rhapsody No. 1 in D-flat ~ Herbert Howells (d.1983)\n\n\n\nVidi aquam (choir) ~ Mode VIII\n\n\n\nIntroit (choir) ~ Quasimodo geniti infantes ~ Mode VI\n\n\n\nThe Gradual:  Psalm 118 ~ Confitemini Domino ~ Tone VIII.1\n\n\n\nThe Alleluia ~ In die resurrectionis meae ~ Tone VI\n\n\n\nOffertory (choir) ~ Angelus Domini ~ Mode VIII\n\n\n\nHymn 206 ~ “O sons and daughters” ~ O filii et filiae\n\n\n\nCommunion (choir) ~ Mitte manum tuam ~ Mode VI\n\n\n\nCarol (choir) ~ “This joyful Eastertide” ~ Vreuchten; harm. C. Wood\n\n\n\nRegina Cœli (choir) ~ Mode V\n\n\n\nHymn 209 ~ “We walk by faith\, and not by sight” ~ St. Botolph\n\n\n\nVoluntary:  Variations on O filii et filiae ~ Jean-François Dandrieu (d. 1738)\n\n\n\n\nPreacher: The Rev. Rowena J. Kemp\, Rector \n\n\n\nOur 10:30 service is a Sung Mass or Solemn High Mass with music: organ\, choir\, and congregational singing. We use Rite I from the 1979 Book of Common Prayer\, with additions from the historical tradition—all of it is outlined in the bulletin.  \n\n\n\nFor more information about Sung Mass\, click here: Services \n\n\n\nThis service will be livestreamed on our Facebook page.  \n\n\n\n2025-04-27 Easter 2CDownload
URL:https://gracehartford.org/event/sung-mass-26/
LOCATION:Connecticut
CATEGORIES:Services
END:VEVENT
BEGIN:VEVENT
DTSTART;TZID=America/New_York:20250501T000000
DTEND;TZID=America/New_York:20250501T235959
DTSTAMP:20260424T055039
CREATED:20241013T222204Z
LAST-MODIFIED:20241116T212814Z
UID:10001148-1746057600-1746143999@gracehartford.org
SUMMARY:Saint Philip and Saint James\, Apostles
DESCRIPTION:Year C / IEasterRedPsalm 119:33-40Isaiah 30:18-212 Corinthians 4:1-6John 14:6-14
URL:https://gracehartford.org/event/saint-philip-and-saint-james-apostles-2/
LOCATION:Connecticut
CATEGORIES:Liturgical Calendar
END:VEVENT
BEGIN:VEVENT
DTSTART;TZID=America/New_York:20250501T093000
DTEND;TZID=America/New_York:20250501T113000
DTSTAMP:20260424T055039
CREATED:20241116T212959Z
LAST-MODIFIED:20241116T212959Z
UID:10000562-1746091800-1746099000@gracehartford.org
SUMMARY:Food Pantry Distribution
DESCRIPTION:
URL:https://gracehartford.org/event/food-pantry-distribution/2025-05-01/
LOCATION:Connecticut
END:VEVENT
END:VCALENDAR