BEGIN:VCALENDAR
VERSION:2.0
PRODID:-//Grace Episcopal Church, Hartford - ECPv6.15.11//NONSGML v1.0//EN
CALSCALE:GREGORIAN
METHOD:PUBLISH
X-WR-CALNAME:Grace Episcopal Church, Hartford
X-ORIGINAL-URL:https://gracehartford.org
X-WR-CALDESC:Events for Grace Episcopal Church, Hartford
REFRESH-INTERVAL;VALUE=DURATION:PT1H
X-Robots-Tag:noindex
X-PUBLISHED-TTL:PT1H
BEGIN:VTIMEZONE
TZID:America/New_York
BEGIN:DAYLIGHT
TZOFFSETFROM:-0500
TZOFFSETTO:-0400
TZNAME:EDT
DTSTART:20250309T070000
END:DAYLIGHT
BEGIN:STANDARD
TZOFFSETFROM:-0400
TZOFFSETTO:-0500
TZNAME:EST
DTSTART:20251102T060000
END:STANDARD
BEGIN:DAYLIGHT
TZOFFSETFROM:-0500
TZOFFSETTO:-0400
TZNAME:EDT
DTSTART:20260308T070000
END:DAYLIGHT
BEGIN:STANDARD
TZOFFSETFROM:-0400
TZOFFSETTO:-0500
TZNAME:EST
DTSTART:20261101T060000
END:STANDARD
BEGIN:DAYLIGHT
TZOFFSETFROM:-0500
TZOFFSETTO:-0400
TZNAME:EDT
DTSTART:20270314T070000
END:DAYLIGHT
BEGIN:STANDARD
TZOFFSETFROM:-0400
TZOFFSETTO:-0500
TZNAME:EST
DTSTART:20271107T060000
END:STANDARD
END:VTIMEZONE
BEGIN:VEVENT
DTSTART;TZID=America/New_York:20260426T080000
DTEND;TZID=America/New_York:20260426T090000
DTSTAMP:20260420T060523
CREATED:20241116T212959Z
LAST-MODIFIED:20241116T212959Z
UID:10000091-1777190400-1777194000@gracehartford.org
SUMMARY:Low Mass
DESCRIPTION:Preacher: TBA \n\n\n\nOur 8AM service is a Low Mass. We use Rite I from the 1979 Book of Common Prayer\, with additions from the historical tradition—all of it is outlined in the Bulletin. We leave room for silence and contemplation\, and there is no music at this service. A refreshing start to a Sunday. \n\n\n\nFor more information about Low Mass\, click here: Services
URL:https://gracehartford.org/event/low-mass/2026-04-26/
CATEGORIES:Services
END:VEVENT
BEGIN:VEVENT
DTSTART;TZID=America/New_York:20260503T080000
DTEND;TZID=America/New_York:20260503T090000
DTSTAMP:20260420T060523
CREATED:20241116T212959Z
LAST-MODIFIED:20241116T212959Z
UID:10000092-1777795200-1777798800@gracehartford.org
SUMMARY:Low Mass
DESCRIPTION:Preacher: TBA \n\n\n\nOur 8AM service is a Low Mass. We use Rite I from the 1979 Book of Common Prayer\, with additions from the historical tradition—all of it is outlined in the Bulletin. We leave room for silence and contemplation\, and there is no music at this service. A refreshing start to a Sunday. \n\n\n\nFor more information about Low Mass\, click here: Services
URL:https://gracehartford.org/event/low-mass/2026-05-03/
CATEGORIES:Services
END:VEVENT
BEGIN:VEVENT
DTSTART;TZID=America/New_York:20260510T080000
DTEND;TZID=America/New_York:20260510T090000
DTSTAMP:20260420T060523
CREATED:20241116T212959Z
LAST-MODIFIED:20241116T212959Z
UID:10000093-1778400000-1778403600@gracehartford.org
SUMMARY:Low Mass
DESCRIPTION:Preacher: TBA \n\n\n\nOur 8AM service is a Low Mass. We use Rite I from the 1979 Book of Common Prayer\, with additions from the historical tradition—all of it is outlined in the Bulletin. We leave room for silence and contemplation\, and there is no music at this service. A refreshing start to a Sunday. \n\n\n\nFor more information about Low Mass\, click here: Services
URL:https://gracehartford.org/event/low-mass/2026-05-10/
CATEGORIES:Services
END:VEVENT
BEGIN:VEVENT
DTSTART;TZID=America/New_York:20260517T080000
DTEND;TZID=America/New_York:20260517T090000
DTSTAMP:20260420T060523
CREATED:20241116T212959Z
LAST-MODIFIED:20241116T212959Z
UID:10000094-1779004800-1779008400@gracehartford.org
SUMMARY:Low Mass
DESCRIPTION:Preacher: TBA \n\n\n\nOur 8AM service is a Low Mass. We use Rite I from the 1979 Book of Common Prayer\, with additions from the historical tradition—all of it is outlined in the Bulletin. We leave room for silence and contemplation\, and there is no music at this service. A refreshing start to a Sunday. \n\n\n\nFor more information about Low Mass\, click here: Services
URL:https://gracehartford.org/event/low-mass/2026-05-17/
CATEGORIES:Services
END:VEVENT
BEGIN:VEVENT
DTSTART;TZID=America/New_York:20260524T080000
DTEND;TZID=America/New_York:20260524T090000
DTSTAMP:20260420T060523
CREATED:20241116T212959Z
LAST-MODIFIED:20241116T212959Z
UID:10000095-1779609600-1779613200@gracehartford.org
SUMMARY:Low Mass
DESCRIPTION:Preacher: TBA \n\n\n\nOur 8AM service is a Low Mass. We use Rite I from the 1979 Book of Common Prayer\, with additions from the historical tradition—all of it is outlined in the Bulletin. We leave room for silence and contemplation\, and there is no music at this service. A refreshing start to a Sunday. \n\n\n\nFor more information about Low Mass\, click here: Services
URL:https://gracehartford.org/event/low-mass/2026-05-24/
CATEGORIES:Services
END:VEVENT
BEGIN:VEVENT
DTSTART;TZID=America/New_York:20260531T080000
DTEND;TZID=America/New_York:20260531T090000
DTSTAMP:20260420T060523
CREATED:20241116T212959Z
LAST-MODIFIED:20241116T212959Z
UID:10000096-1780214400-1780218000@gracehartford.org
SUMMARY:Low Mass
DESCRIPTION:Preacher: TBA \n\n\n\nOur 8AM service is a Low Mass. We use Rite I from the 1979 Book of Common Prayer\, with additions from the historical tradition—all of it is outlined in the Bulletin. We leave room for silence and contemplation\, and there is no music at this service. A refreshing start to a Sunday. \n\n\n\nFor more information about Low Mass\, click here: Services
URL:https://gracehartford.org/event/low-mass/2026-05-31/
CATEGORIES:Services
END:VEVENT
BEGIN:VEVENT
DTSTART;TZID=America/New_York:20260607T080000
DTEND;TZID=America/New_York:20260607T090000
DTSTAMP:20260420T060523
CREATED:20241116T212959Z
LAST-MODIFIED:20241116T212959Z
UID:10000097-1780819200-1780822800@gracehartford.org
SUMMARY:Low Mass
DESCRIPTION:Preacher: TBA \n\n\n\nOur 8AM service is a Low Mass. We use Rite I from the 1979 Book of Common Prayer\, with additions from the historical tradition—all of it is outlined in the Bulletin. We leave room for silence and contemplation\, and there is no music at this service. A refreshing start to a Sunday. \n\n\n\nFor more information about Low Mass\, click here: Services
URL:https://gracehartford.org/event/low-mass/2026-06-07/
CATEGORIES:Services
END:VEVENT
BEGIN:VEVENT
DTSTART;TZID=America/New_York:20260614T080000
DTEND;TZID=America/New_York:20260614T090000
DTSTAMP:20260420T060523
CREATED:20241116T212959Z
LAST-MODIFIED:20241116T212959Z
UID:10000098-1781424000-1781427600@gracehartford.org
SUMMARY:Low Mass
DESCRIPTION:Preacher: TBA \n\n\n\nOur 8AM service is a Low Mass. We use Rite I from the 1979 Book of Common Prayer\, with additions from the historical tradition—all of it is outlined in the Bulletin. We leave room for silence and contemplation\, and there is no music at this service. A refreshing start to a Sunday. \n\n\n\nFor more information about Low Mass\, click here: Services
URL:https://gracehartford.org/event/low-mass/2026-06-14/
CATEGORIES:Services
END:VEVENT
BEGIN:VEVENT
DTSTART;TZID=America/New_York:20260621T080000
DTEND;TZID=America/New_York:20260621T090000
DTSTAMP:20260420T060523
CREATED:20241116T212959Z
LAST-MODIFIED:20241116T212959Z
UID:10000099-1782028800-1782032400@gracehartford.org
SUMMARY:Low Mass
DESCRIPTION:Preacher: TBA \n\n\n\nOur 8AM service is a Low Mass. We use Rite I from the 1979 Book of Common Prayer\, with additions from the historical tradition—all of it is outlined in the Bulletin. We leave room for silence and contemplation\, and there is no music at this service. A refreshing start to a Sunday. \n\n\n\nFor more information about Low Mass\, click here: Services
URL:https://gracehartford.org/event/low-mass/2026-06-21/
CATEGORIES:Services
END:VEVENT
BEGIN:VEVENT
DTSTART;TZID=America/New_York:20260628T080000
DTEND;TZID=America/New_York:20260628T090000
DTSTAMP:20260420T060523
CREATED:20241116T212959Z
LAST-MODIFIED:20241116T212959Z
UID:10000100-1782633600-1782637200@gracehartford.org
SUMMARY:Low Mass
DESCRIPTION:Preacher: TBA \n\n\n\nOur 8AM service is a Low Mass. We use Rite I from the 1979 Book of Common Prayer\, with additions from the historical tradition—all of it is outlined in the Bulletin. We leave room for silence and contemplation\, and there is no music at this service. A refreshing start to a Sunday. \n\n\n\nFor more information about Low Mass\, click here: Services
URL:https://gracehartford.org/event/low-mass/2026-06-28/
CATEGORIES:Services
END:VEVENT
BEGIN:VEVENT
DTSTART;TZID=America/New_York:20260705T080000
DTEND;TZID=America/New_York:20260705T090000
DTSTAMP:20260420T060523
CREATED:20241116T212959Z
LAST-MODIFIED:20241116T212959Z
UID:10000101-1783238400-1783242000@gracehartford.org
SUMMARY:Low Mass
DESCRIPTION:Preacher: TBA \n\n\n\nOur 8AM service is a Low Mass. We use Rite I from the 1979 Book of Common Prayer\, with additions from the historical tradition—all of it is outlined in the Bulletin. We leave room for silence and contemplation\, and there is no music at this service. A refreshing start to a Sunday. \n\n\n\nFor more information about Low Mass\, click here: Services
URL:https://gracehartford.org/event/low-mass/2026-07-05/
CATEGORIES:Services
END:VEVENT
BEGIN:VEVENT
DTSTART;TZID=America/New_York:20260712T080000
DTEND;TZID=America/New_York:20260712T090000
DTSTAMP:20260420T060523
CREATED:20241116T212959Z
LAST-MODIFIED:20241116T212959Z
UID:10000102-1783843200-1783846800@gracehartford.org
SUMMARY:Low Mass
DESCRIPTION:Preacher: TBA \n\n\n\nOur 8AM service is a Low Mass. We use Rite I from the 1979 Book of Common Prayer\, with additions from the historical tradition—all of it is outlined in the Bulletin. We leave room for silence and contemplation\, and there is no music at this service. A refreshing start to a Sunday. \n\n\n\nFor more information about Low Mass\, click here: Services
URL:https://gracehartford.org/event/low-mass/2026-07-12/
CATEGORIES:Services
END:VEVENT
BEGIN:VEVENT
DTSTART;TZID=America/New_York:20260719T080000
DTEND;TZID=America/New_York:20260719T090000
DTSTAMP:20260420T060523
CREATED:20241116T212959Z
LAST-MODIFIED:20241116T212959Z
UID:10000103-1784448000-1784451600@gracehartford.org
SUMMARY:Low Mass
DESCRIPTION:Preacher: TBA \n\n\n\nOur 8AM service is a Low Mass. We use Rite I from the 1979 Book of Common Prayer\, with additions from the historical tradition—all of it is outlined in the Bulletin. We leave room for silence and contemplation\, and there is no music at this service. A refreshing start to a Sunday. \n\n\n\nFor more information about Low Mass\, click here: Services
URL:https://gracehartford.org/event/low-mass/2026-07-19/
CATEGORIES:Services
END:VEVENT
BEGIN:VEVENT
DTSTART;TZID=America/New_York:20260726T080000
DTEND;TZID=America/New_York:20260726T090000
DTSTAMP:20260420T060523
CREATED:20241116T212959Z
LAST-MODIFIED:20241116T212959Z
UID:10000104-1785052800-1785056400@gracehartford.org
SUMMARY:Low Mass
DESCRIPTION:Preacher: TBA \n\n\n\nOur 8AM service is a Low Mass. We use Rite I from the 1979 Book of Common Prayer\, with additions from the historical tradition—all of it is outlined in the Bulletin. We leave room for silence and contemplation\, and there is no music at this service. A refreshing start to a Sunday. \n\n\n\nFor more information about Low Mass\, click here: Services
URL:https://gracehartford.org/event/low-mass/2026-07-26/
CATEGORIES:Services
END:VEVENT
BEGIN:VEVENT
DTSTART;TZID=America/New_York:20260802T080000
DTEND;TZID=America/New_York:20260802T090000
DTSTAMP:20260420T060523
CREATED:20241116T212959Z
LAST-MODIFIED:20241116T212959Z
UID:10000105-1785657600-1785661200@gracehartford.org
SUMMARY:Low Mass
DESCRIPTION:Preacher: TBA \n\n\n\nOur 8AM service is a Low Mass. We use Rite I from the 1979 Book of Common Prayer\, with additions from the historical tradition—all of it is outlined in the Bulletin. We leave room for silence and contemplation\, and there is no music at this service. A refreshing start to a Sunday. \n\n\n\nFor more information about Low Mass\, click here: Services
URL:https://gracehartford.org/event/low-mass/2026-08-02/
CATEGORIES:Services
END:VEVENT
BEGIN:VEVENT
DTSTART;TZID=America/New_York:20260809T080000
DTEND;TZID=America/New_York:20260809T090000
DTSTAMP:20260420T060523
CREATED:20241116T212959Z
LAST-MODIFIED:20241116T212959Z
UID:10000106-1786262400-1786266000@gracehartford.org
SUMMARY:Low Mass
DESCRIPTION:Preacher: TBA \n\n\n\nOur 8AM service is a Low Mass. We use Rite I from the 1979 Book of Common Prayer\, with additions from the historical tradition—all of it is outlined in the Bulletin. We leave room for silence and contemplation\, and there is no music at this service. A refreshing start to a Sunday. \n\n\n\nFor more information about Low Mass\, click here: Services
URL:https://gracehartford.org/event/low-mass/2026-08-09/
CATEGORIES:Services
END:VEVENT
BEGIN:VEVENT
DTSTART;TZID=America/New_York:20260816T080000
DTEND;TZID=America/New_York:20260816T090000
DTSTAMP:20260420T060523
CREATED:20241116T212959Z
LAST-MODIFIED:20241116T212959Z
UID:10000107-1786867200-1786870800@gracehartford.org
SUMMARY:Low Mass
DESCRIPTION:Preacher: TBA \n\n\n\nOur 8AM service is a Low Mass. We use Rite I from the 1979 Book of Common Prayer\, with additions from the historical tradition—all of it is outlined in the Bulletin. We leave room for silence and contemplation\, and there is no music at this service. A refreshing start to a Sunday. \n\n\n\nFor more information about Low Mass\, click here: Services
URL:https://gracehartford.org/event/low-mass/2026-08-16/
CATEGORIES:Services
END:VEVENT
BEGIN:VEVENT
DTSTART;TZID=America/New_York:20260823T080000
DTEND;TZID=America/New_York:20260823T090000
DTSTAMP:20260420T060523
CREATED:20241116T212959Z
LAST-MODIFIED:20241116T212959Z
UID:10000108-1787472000-1787475600@gracehartford.org
SUMMARY:Low Mass
DESCRIPTION:Preacher: TBA \n\n\n\nOur 8AM service is a Low Mass. We use Rite I from the 1979 Book of Common Prayer\, with additions from the historical tradition—all of it is outlined in the Bulletin. We leave room for silence and contemplation\, and there is no music at this service. A refreshing start to a Sunday. \n\n\n\nFor more information about Low Mass\, click here: Services
URL:https://gracehartford.org/event/low-mass/2026-08-23/
CATEGORIES:Services
END:VEVENT
BEGIN:VEVENT
DTSTART;TZID=America/New_York:20260830T080000
DTEND;TZID=America/New_York:20260830T090000
DTSTAMP:20260420T060523
CREATED:20241116T212959Z
LAST-MODIFIED:20241116T212959Z
UID:10000109-1788076800-1788080400@gracehartford.org
SUMMARY:Low Mass
DESCRIPTION:Preacher: TBA \n\n\n\nOur 8AM service is a Low Mass. We use Rite I from the 1979 Book of Common Prayer\, with additions from the historical tradition—all of it is outlined in the Bulletin. We leave room for silence and contemplation\, and there is no music at this service. A refreshing start to a Sunday. \n\n\n\nFor more information about Low Mass\, click here: Services
URL:https://gracehartford.org/event/low-mass/2026-08-30/
CATEGORIES:Services
END:VEVENT
BEGIN:VEVENT
DTSTART;TZID=America/New_York:20260906T080000
DTEND;TZID=America/New_York:20260906T090000
DTSTAMP:20260420T060523
CREATED:20241116T212959Z
LAST-MODIFIED:20241116T212959Z
UID:10000110-1788681600-1788685200@gracehartford.org
SUMMARY:Low Mass
DESCRIPTION:Preacher: TBA \n\n\n\nOur 8AM service is a Low Mass. We use Rite I from the 1979 Book of Common Prayer\, with additions from the historical tradition—all of it is outlined in the Bulletin. We leave room for silence and contemplation\, and there is no music at this service. A refreshing start to a Sunday. \n\n\n\nFor more information about Low Mass\, click here: Services
URL:https://gracehartford.org/event/low-mass/2026-09-06/
CATEGORIES:Services
END:VEVENT
BEGIN:VEVENT
DTSTART;TZID=America/New_York:20260913T080000
DTEND;TZID=America/New_York:20260913T090000
DTSTAMP:20260420T060523
CREATED:20241116T212959Z
LAST-MODIFIED:20241116T212959Z
UID:10000111-1789286400-1789290000@gracehartford.org
SUMMARY:Low Mass
DESCRIPTION:Preacher: TBA \n\n\n\nOur 8AM service is a Low Mass. We use Rite I from the 1979 Book of Common Prayer\, with additions from the historical tradition—all of it is outlined in the Bulletin. We leave room for silence and contemplation\, and there is no music at this service. A refreshing start to a Sunday. \n\n\n\nFor more information about Low Mass\, click here: Services
URL:https://gracehartford.org/event/low-mass/2026-09-13/
CATEGORIES:Services
END:VEVENT
BEGIN:VEVENT
DTSTART;TZID=America/New_York:20260920T080000
DTEND;TZID=America/New_York:20260920T090000
DTSTAMP:20260420T060523
CREATED:20241116T212959Z
LAST-MODIFIED:20241116T212959Z
UID:10000112-1789891200-1789894800@gracehartford.org
SUMMARY:Low Mass
DESCRIPTION:Preacher: TBA \n\n\n\nOur 8AM service is a Low Mass. We use Rite I from the 1979 Book of Common Prayer\, with additions from the historical tradition—all of it is outlined in the Bulletin. We leave room for silence and contemplation\, and there is no music at this service. A refreshing start to a Sunday. \n\n\n\nFor more information about Low Mass\, click here: Services
URL:https://gracehartford.org/event/low-mass/2026-09-20/
CATEGORIES:Services
END:VEVENT
BEGIN:VEVENT
DTSTART;TZID=America/New_York:20260927T080000
DTEND;TZID=America/New_York:20260927T090000
DTSTAMP:20260420T060523
CREATED:20241116T212959Z
LAST-MODIFIED:20241116T212959Z
UID:10000113-1790496000-1790499600@gracehartford.org
SUMMARY:Low Mass
DESCRIPTION:Preacher: TBA \n\n\n\nOur 8AM service is a Low Mass. We use Rite I from the 1979 Book of Common Prayer\, with additions from the historical tradition—all of it is outlined in the Bulletin. We leave room for silence and contemplation\, and there is no music at this service. A refreshing start to a Sunday. \n\n\n\nFor more information about Low Mass\, click here: Services
URL:https://gracehartford.org/event/low-mass/2026-09-27/
CATEGORIES:Services
END:VEVENT
BEGIN:VEVENT
DTSTART;TZID=America/New_York:20261004T080000
DTEND;TZID=America/New_York:20261004T090000
DTSTAMP:20260420T060523
CREATED:20241116T212959Z
LAST-MODIFIED:20241116T212959Z
UID:10000114-1791100800-1791104400@gracehartford.org
SUMMARY:Low Mass
DESCRIPTION:Preacher: TBA \n\n\n\nOur 8AM service is a Low Mass. We use Rite I from the 1979 Book of Common Prayer\, with additions from the historical tradition—all of it is outlined in the Bulletin. We leave room for silence and contemplation\, and there is no music at this service. A refreshing start to a Sunday. \n\n\n\nFor more information about Low Mass\, click here: Services
URL:https://gracehartford.org/event/low-mass/2026-10-04/
CATEGORIES:Services
END:VEVENT
BEGIN:VEVENT
DTSTART;TZID=America/New_York:20261011T080000
DTEND;TZID=America/New_York:20261011T090000
DTSTAMP:20260420T060523
CREATED:20241116T212959Z
LAST-MODIFIED:20241116T212959Z
UID:10000115-1791705600-1791709200@gracehartford.org
SUMMARY:Low Mass
DESCRIPTION:Preacher: TBA \n\n\n\nOur 8AM service is a Low Mass. We use Rite I from the 1979 Book of Common Prayer\, with additions from the historical tradition—all of it is outlined in the Bulletin. We leave room for silence and contemplation\, and there is no music at this service. A refreshing start to a Sunday. \n\n\n\nFor more information about Low Mass\, click here: Services
URL:https://gracehartford.org/event/low-mass/2026-10-11/
CATEGORIES:Services
END:VEVENT
BEGIN:VEVENT
DTSTART;TZID=America/New_York:20261018T080000
DTEND;TZID=America/New_York:20261018T090000
DTSTAMP:20260420T060523
CREATED:20241116T212959Z
LAST-MODIFIED:20241116T212959Z
UID:10000116-1792310400-1792314000@gracehartford.org
SUMMARY:Low Mass
DESCRIPTION:Preacher: TBA \n\n\n\nOur 8AM service is a Low Mass. We use Rite I from the 1979 Book of Common Prayer\, with additions from the historical tradition—all of it is outlined in the Bulletin. We leave room for silence and contemplation\, and there is no music at this service. A refreshing start to a Sunday. \n\n\n\nFor more information about Low Mass\, click here: Services
URL:https://gracehartford.org/event/low-mass/2026-10-18/
CATEGORIES:Services
END:VEVENT
BEGIN:VEVENT
DTSTART;TZID=America/New_York:20261025T080000
DTEND;TZID=America/New_York:20261025T090000
DTSTAMP:20260420T060523
CREATED:20241116T212959Z
LAST-MODIFIED:20241116T212959Z
UID:10000117-1792915200-1792918800@gracehartford.org
SUMMARY:Low Mass
DESCRIPTION:Preacher: TBA \n\n\n\nOur 8AM service is a Low Mass. We use Rite I from the 1979 Book of Common Prayer\, with additions from the historical tradition—all of it is outlined in the Bulletin. We leave room for silence and contemplation\, and there is no music at this service. A refreshing start to a Sunday. \n\n\n\nFor more information about Low Mass\, click here: Services
URL:https://gracehartford.org/event/low-mass/2026-10-25/
CATEGORIES:Services
END:VEVENT
BEGIN:VEVENT
DTSTART;TZID=America/New_York:20261101T080000
DTEND;TZID=America/New_York:20261101T090000
DTSTAMP:20260420T060523
CREATED:20241116T212959Z
LAST-MODIFIED:20241116T212959Z
UID:10000118-1793520000-1793523600@gracehartford.org
SUMMARY:Low Mass
DESCRIPTION:Preacher: TBA \n\n\n\nOur 8AM service is a Low Mass. We use Rite I from the 1979 Book of Common Prayer\, with additions from the historical tradition—all of it is outlined in the Bulletin. We leave room for silence and contemplation\, and there is no music at this service. A refreshing start to a Sunday. \n\n\n\nFor more information about Low Mass\, click here: Services
URL:https://gracehartford.org/event/low-mass/2026-11-01/
CATEGORIES:Services
END:VEVENT
BEGIN:VEVENT
DTSTART;TZID=America/New_York:20261108T080000
DTEND;TZID=America/New_York:20261108T090000
DTSTAMP:20260420T060523
CREATED:20241116T212959Z
LAST-MODIFIED:20241116T212959Z
UID:10000119-1794124800-1794128400@gracehartford.org
SUMMARY:Low Mass
DESCRIPTION:Preacher: TBA \n\n\n\nOur 8AM service is a Low Mass. We use Rite I from the 1979 Book of Common Prayer\, with additions from the historical tradition—all of it is outlined in the Bulletin. We leave room for silence and contemplation\, and there is no music at this service. A refreshing start to a Sunday. \n\n\n\nFor more information about Low Mass\, click here: Services
URL:https://gracehartford.org/event/low-mass/2026-11-08/
CATEGORIES:Services
END:VEVENT
BEGIN:VEVENT
DTSTART;TZID=America/New_York:20261115T080000
DTEND;TZID=America/New_York:20261115T090000
DTSTAMP:20260420T060523
CREATED:20241116T212959Z
LAST-MODIFIED:20241116T212959Z
UID:10000120-1794729600-1794733200@gracehartford.org
SUMMARY:Low Mass
DESCRIPTION:Preacher: TBA \n\n\n\nOur 8AM service is a Low Mass. We use Rite I from the 1979 Book of Common Prayer\, with additions from the historical tradition—all of it is outlined in the Bulletin. We leave room for silence and contemplation\, and there is no music at this service. A refreshing start to a Sunday. \n\n\n\nFor more information about Low Mass\, click here: Services
URL:https://gracehartford.org/event/low-mass/2026-11-15/
CATEGORIES:Services
END:VEVENT
END:VCALENDAR