BEGIN:VCALENDAR
VERSION:2.0
PRODID:-//Grace Episcopal Church, Hartford - ECPv6.15.11//NONSGML v1.0//EN
CALSCALE:GREGORIAN
METHOD:PUBLISH
X-ORIGINAL-URL:https://gracehartford.org
X-WR-CALDESC:Events for Grace Episcopal Church, Hartford
REFRESH-INTERVAL;VALUE=DURATION:PT1H
X-Robots-Tag:noindex
X-PUBLISHED-TTL:PT1H
BEGIN:VTIMEZONE
TZID:America/New_York
BEGIN:DAYLIGHT
TZOFFSETFROM:-0500
TZOFFSETTO:-0400
TZNAME:EDT
DTSTART:20290311T070000
END:DAYLIGHT
BEGIN:STANDARD
TZOFFSETFROM:-0400
TZOFFSETTO:-0500
TZNAME:EST
DTSTART:20291104T060000
END:STANDARD
BEGIN:DAYLIGHT
TZOFFSETFROM:-0500
TZOFFSETTO:-0400
TZNAME:EDT
DTSTART:20300310T070000
END:DAYLIGHT
BEGIN:STANDARD
TZOFFSETFROM:-0400
TZOFFSETTO:-0500
TZNAME:EST
DTSTART:20301103T060000
END:STANDARD
BEGIN:DAYLIGHT
TZOFFSETFROM:-0500
TZOFFSETTO:-0400
TZNAME:EDT
DTSTART:20310309T070000
END:DAYLIGHT
BEGIN:STANDARD
TZOFFSETFROM:-0400
TZOFFSETTO:-0500
TZNAME:EST
DTSTART:20311102T060000
END:STANDARD
END:VTIMEZONE
BEGIN:VEVENT
DTSTART;TZID=America/New_York:20300609T080000
DTEND;TZID=America/New_York:20300609T090000
DTSTAMP:20260423T071659
CREATED:20241116T212959Z
LAST-MODIFIED:20241116T212959Z
UID:10001723-1907222400-1907226000@gracehartford.org
SUMMARY:Low Mass
DESCRIPTION:Preacher: TBA \n\n\n\nOur 8AM service is a Low Mass. We use Rite I from the 1979 Book of Common Prayer\, with additions from the historical tradition—all of it is outlined in the Bulletin. We leave room for silence and contemplation\, and there is no music at this service. A refreshing start to a Sunday. \n\n\n\nFor more information about Low Mass\, click here: Services
URL:https://gracehartford.org/event/low-mass/2030-06-09/
CATEGORIES:Services
END:VEVENT
BEGIN:VEVENT
DTSTART;TZID=America/New_York:20300609T103000
DTEND;TZID=America/New_York:20300609T120000
DTSTAMP:20260423T071659
CREATED:20250901T200048Z
LAST-MODIFIED:20250901T200049Z
UID:10001399-1907231400-1907236800@gracehartford.org
SUMMARY:Sung Mass
DESCRIPTION:Music: TBA \n\n\n\nPreacher: TBA \n\n\n\nOur 10:30 service is a Sung Mass or Solemn High Mass with music: organ\, choir\, and congregational singing. We use Rite I from the 1979 Book of Common Prayer\, with additions from the historical tradition—all of it is outlined in the bulletin.  \n\n\n\nFor more information about Sung Mass\, click here: Services \n\n\n\nThis service will be livestreamed on our YouTube channel.
URL:https://gracehartford.org/event/sung-mass-46/2030-06-09/
CATEGORIES:Services
END:VEVENT
BEGIN:VEVENT
DTSTART;TZID=America/New_York:20300613T093000
DTEND;TZID=America/New_York:20300613T113000
DTSTAMP:20260423T071659
CREATED:20241116T212959Z
LAST-MODIFIED:20241116T212959Z
UID:10001520-1907573400-1907580600@gracehartford.org
SUMMARY:Food Pantry Distribution
DESCRIPTION:
URL:https://gracehartford.org/event/food-pantry-distribution/2030-06-13/
END:VEVENT
BEGIN:VEVENT
DTSTART;TZID=America/New_York:20300616T080000
DTEND;TZID=America/New_York:20300616T090000
DTSTAMP:20260423T071659
CREATED:20241116T212959Z
LAST-MODIFIED:20241116T212959Z
UID:10001724-1907827200-1907830800@gracehartford.org
SUMMARY:Low Mass
DESCRIPTION:Preacher: TBA \n\n\n\nOur 8AM service is a Low Mass. We use Rite I from the 1979 Book of Common Prayer\, with additions from the historical tradition—all of it is outlined in the Bulletin. We leave room for silence and contemplation\, and there is no music at this service. A refreshing start to a Sunday. \n\n\n\nFor more information about Low Mass\, click here: Services
URL:https://gracehartford.org/event/low-mass/2030-06-16/
CATEGORIES:Services
END:VEVENT
BEGIN:VEVENT
DTSTART;TZID=America/New_York:20300616T103000
DTEND;TZID=America/New_York:20300616T120000
DTSTAMP:20260423T071659
CREATED:20250901T200048Z
LAST-MODIFIED:20250901T200049Z
UID:10001400-1907836200-1907841600@gracehartford.org
SUMMARY:Sung Mass
DESCRIPTION:Music: TBA \n\n\n\nPreacher: TBA \n\n\n\nOur 10:30 service is a Sung Mass or Solemn High Mass with music: organ\, choir\, and congregational singing. We use Rite I from the 1979 Book of Common Prayer\, with additions from the historical tradition—all of it is outlined in the bulletin.  \n\n\n\nFor more information about Sung Mass\, click here: Services \n\n\n\nThis service will be livestreamed on our YouTube channel.
URL:https://gracehartford.org/event/sung-mass-46/2030-06-16/
CATEGORIES:Services
END:VEVENT
BEGIN:VEVENT
DTSTART;TZID=America/New_York:20300620T093000
DTEND;TZID=America/New_York:20300620T113000
DTSTAMP:20260423T071659
CREATED:20241116T212959Z
LAST-MODIFIED:20241116T212959Z
UID:10001521-1908178200-1908185400@gracehartford.org
SUMMARY:Food Pantry Distribution
DESCRIPTION:
URL:https://gracehartford.org/event/food-pantry-distribution/2030-06-20/
END:VEVENT
BEGIN:VEVENT
DTSTART;TZID=America/New_York:20300621T100000
DTEND;TZID=America/New_York:20300621T110000
DTSTAMP:20260423T071659
CREATED:20260221T173645Z
LAST-MODIFIED:20260221T173736Z
UID:10001681-1908266400-1908270000@gracehartford.org
SUMMARY:Vestry Meeting
DESCRIPTION:
URL:https://gracehartford.org/event/vestry-meeting-6/2030-06-21/
LOCATION:Grace Episcopal Church\, 55 New Park Avenue\, Hartford\, Connecticut\, 06106-2123\, United States
END:VEVENT
BEGIN:VEVENT
DTSTART;TZID=America/New_York:20300623T080000
DTEND;TZID=America/New_York:20300623T090000
DTSTAMP:20260423T071659
CREATED:20241116T212959Z
LAST-MODIFIED:20241116T212959Z
UID:10001725-1908432000-1908435600@gracehartford.org
SUMMARY:Low Mass
DESCRIPTION:Preacher: TBA \n\n\n\nOur 8AM service is a Low Mass. We use Rite I from the 1979 Book of Common Prayer\, with additions from the historical tradition—all of it is outlined in the Bulletin. We leave room for silence and contemplation\, and there is no music at this service. A refreshing start to a Sunday. \n\n\n\nFor more information about Low Mass\, click here: Services
URL:https://gracehartford.org/event/low-mass/2030-06-23/
CATEGORIES:Services
END:VEVENT
BEGIN:VEVENT
DTSTART;TZID=America/New_York:20300623T103000
DTEND;TZID=America/New_York:20300623T120000
DTSTAMP:20260423T071659
CREATED:20250901T200048Z
LAST-MODIFIED:20250901T200049Z
UID:10001401-1908441000-1908446400@gracehartford.org
SUMMARY:Sung Mass
DESCRIPTION:Music: TBA \n\n\n\nPreacher: TBA \n\n\n\nOur 10:30 service is a Sung Mass or Solemn High Mass with music: organ\, choir\, and congregational singing. We use Rite I from the 1979 Book of Common Prayer\, with additions from the historical tradition—all of it is outlined in the bulletin.  \n\n\n\nFor more information about Sung Mass\, click here: Services \n\n\n\nThis service will be livestreamed on our YouTube channel.
URL:https://gracehartford.org/event/sung-mass-46/2030-06-23/
CATEGORIES:Services
END:VEVENT
BEGIN:VEVENT
DTSTART;TZID=America/New_York:20300627T093000
DTEND;TZID=America/New_York:20300627T113000
DTSTAMP:20260423T071659
CREATED:20241116T212959Z
LAST-MODIFIED:20241116T212959Z
UID:10001522-1908783000-1908790200@gracehartford.org
SUMMARY:Food Pantry Distribution
DESCRIPTION:
URL:https://gracehartford.org/event/food-pantry-distribution/2030-06-27/
END:VEVENT
BEGIN:VEVENT
DTSTART;TZID=America/New_York:20300630T080000
DTEND;TZID=America/New_York:20300630T090000
DTSTAMP:20260423T071659
CREATED:20241116T212959Z
LAST-MODIFIED:20241116T212959Z
UID:10001726-1909036800-1909040400@gracehartford.org
SUMMARY:Low Mass
DESCRIPTION:Preacher: TBA \n\n\n\nOur 8AM service is a Low Mass. We use Rite I from the 1979 Book of Common Prayer\, with additions from the historical tradition—all of it is outlined in the Bulletin. We leave room for silence and contemplation\, and there is no music at this service. A refreshing start to a Sunday. \n\n\n\nFor more information about Low Mass\, click here: Services
URL:https://gracehartford.org/event/low-mass/2030-06-30/
CATEGORIES:Services
END:VEVENT
BEGIN:VEVENT
DTSTART;TZID=America/New_York:20300630T103000
DTEND;TZID=America/New_York:20300630T120000
DTSTAMP:20260423T071659
CREATED:20250901T200048Z
LAST-MODIFIED:20250901T200049Z
UID:10001402-1909045800-1909051200@gracehartford.org
SUMMARY:Sung Mass
DESCRIPTION:Music: TBA \n\n\n\nPreacher: TBA \n\n\n\nOur 10:30 service is a Sung Mass or Solemn High Mass with music: organ\, choir\, and congregational singing. We use Rite I from the 1979 Book of Common Prayer\, with additions from the historical tradition—all of it is outlined in the bulletin.  \n\n\n\nFor more information about Sung Mass\, click here: Services \n\n\n\nThis service will be livestreamed on our YouTube channel.
URL:https://gracehartford.org/event/sung-mass-46/2030-06-30/
CATEGORIES:Services
END:VEVENT
BEGIN:VEVENT
DTSTART;TZID=America/New_York:20300704T093000
DTEND;TZID=America/New_York:20300704T113000
DTSTAMP:20260423T071659
CREATED:20241116T212959Z
LAST-MODIFIED:20241116T212959Z
UID:10001523-1909387800-1909395000@gracehartford.org
SUMMARY:Food Pantry Distribution
DESCRIPTION:
URL:https://gracehartford.org/event/food-pantry-distribution/2030-07-04/
END:VEVENT
BEGIN:VEVENT
DTSTART;TZID=America/New_York:20300707T080000
DTEND;TZID=America/New_York:20300707T090000
DTSTAMP:20260423T071659
CREATED:20241116T212959Z
LAST-MODIFIED:20241116T212959Z
UID:10001727-1909641600-1909645200@gracehartford.org
SUMMARY:Low Mass
DESCRIPTION:Preacher: TBA \n\n\n\nOur 8AM service is a Low Mass. We use Rite I from the 1979 Book of Common Prayer\, with additions from the historical tradition—all of it is outlined in the Bulletin. We leave room for silence and contemplation\, and there is no music at this service. A refreshing start to a Sunday. \n\n\n\nFor more information about Low Mass\, click here: Services
URL:https://gracehartford.org/event/low-mass/2030-07-07/
CATEGORIES:Services
END:VEVENT
BEGIN:VEVENT
DTSTART;TZID=America/New_York:20300707T103000
DTEND;TZID=America/New_York:20300707T120000
DTSTAMP:20260423T071659
CREATED:20250901T200048Z
LAST-MODIFIED:20250901T200049Z
UID:10001403-1909650600-1909656000@gracehartford.org
SUMMARY:Sung Mass
DESCRIPTION:Music: TBA \n\n\n\nPreacher: TBA \n\n\n\nOur 10:30 service is a Sung Mass or Solemn High Mass with music: organ\, choir\, and congregational singing. We use Rite I from the 1979 Book of Common Prayer\, with additions from the historical tradition—all of it is outlined in the bulletin.  \n\n\n\nFor more information about Sung Mass\, click here: Services \n\n\n\nThis service will be livestreamed on our YouTube channel.
URL:https://gracehartford.org/event/sung-mass-46/2030-07-07/
CATEGORIES:Services
END:VEVENT
BEGIN:VEVENT
DTSTART;TZID=America/New_York:20300711T093000
DTEND;TZID=America/New_York:20300711T113000
DTSTAMP:20260423T071659
CREATED:20241116T212959Z
LAST-MODIFIED:20241116T212959Z
UID:10001524-1909992600-1909999800@gracehartford.org
SUMMARY:Food Pantry Distribution
DESCRIPTION:
URL:https://gracehartford.org/event/food-pantry-distribution/2030-07-11/
END:VEVENT
BEGIN:VEVENT
DTSTART;TZID=America/New_York:20300714T080000
DTEND;TZID=America/New_York:20300714T090000
DTSTAMP:20260423T071659
CREATED:20241116T212959Z
LAST-MODIFIED:20241116T212959Z
UID:10001728-1910246400-1910250000@gracehartford.org
SUMMARY:Low Mass
DESCRIPTION:Preacher: TBA \n\n\n\nOur 8AM service is a Low Mass. We use Rite I from the 1979 Book of Common Prayer\, with additions from the historical tradition—all of it is outlined in the Bulletin. We leave room for silence and contemplation\, and there is no music at this service. A refreshing start to a Sunday. \n\n\n\nFor more information about Low Mass\, click here: Services
URL:https://gracehartford.org/event/low-mass/2030-07-14/
CATEGORIES:Services
END:VEVENT
BEGIN:VEVENT
DTSTART;TZID=America/New_York:20300714T103000
DTEND;TZID=America/New_York:20300714T120000
DTSTAMP:20260423T071659
CREATED:20250901T200048Z
LAST-MODIFIED:20250901T200049Z
UID:10001405-1910255400-1910260800@gracehartford.org
SUMMARY:Sung Mass
DESCRIPTION:Music: TBA \n\n\n\nPreacher: TBA \n\n\n\nOur 10:30 service is a Sung Mass or Solemn High Mass with music: organ\, choir\, and congregational singing. We use Rite I from the 1979 Book of Common Prayer\, with additions from the historical tradition—all of it is outlined in the bulletin.  \n\n\n\nFor more information about Sung Mass\, click here: Services \n\n\n\nThis service will be livestreamed on our YouTube channel.
URL:https://gracehartford.org/event/sung-mass-46/2030-07-14/
CATEGORIES:Services
END:VEVENT
BEGIN:VEVENT
DTSTART;TZID=America/New_York:20300718T093000
DTEND;TZID=America/New_York:20300718T113000
DTSTAMP:20260423T071659
CREATED:20241116T212959Z
LAST-MODIFIED:20241116T212959Z
UID:10001525-1910597400-1910604600@gracehartford.org
SUMMARY:Food Pantry Distribution
DESCRIPTION:
URL:https://gracehartford.org/event/food-pantry-distribution/2030-07-18/
END:VEVENT
BEGIN:VEVENT
DTSTART;TZID=America/New_York:20300719T100000
DTEND;TZID=America/New_York:20300719T110000
DTSTAMP:20260423T071659
CREATED:20260221T173645Z
LAST-MODIFIED:20260221T173736Z
UID:10001682-1910685600-1910689200@gracehartford.org
SUMMARY:Vestry Meeting
DESCRIPTION:
URL:https://gracehartford.org/event/vestry-meeting-6/2030-07-19/
LOCATION:Grace Episcopal Church\, 55 New Park Avenue\, Hartford\, Connecticut\, 06106-2123\, United States
END:VEVENT
BEGIN:VEVENT
DTSTART;TZID=America/New_York:20300721T080000
DTEND;TZID=America/New_York:20300721T090000
DTSTAMP:20260423T071659
CREATED:20241116T212959Z
LAST-MODIFIED:20241116T212959Z
UID:10001729-1910851200-1910854800@gracehartford.org
SUMMARY:Low Mass
DESCRIPTION:Preacher: TBA \n\n\n\nOur 8AM service is a Low Mass. We use Rite I from the 1979 Book of Common Prayer\, with additions from the historical tradition—all of it is outlined in the Bulletin. We leave room for silence and contemplation\, and there is no music at this service. A refreshing start to a Sunday. \n\n\n\nFor more information about Low Mass\, click here: Services
URL:https://gracehartford.org/event/low-mass/2030-07-21/
CATEGORIES:Services
END:VEVENT
BEGIN:VEVENT
DTSTART;TZID=America/New_York:20300721T103000
DTEND;TZID=America/New_York:20300721T120000
DTSTAMP:20260423T071659
CREATED:20250901T200048Z
LAST-MODIFIED:20250901T200049Z
UID:10001407-1910860200-1910865600@gracehartford.org
SUMMARY:Sung Mass
DESCRIPTION:Music: TBA \n\n\n\nPreacher: TBA \n\n\n\nOur 10:30 service is a Sung Mass or Solemn High Mass with music: organ\, choir\, and congregational singing. We use Rite I from the 1979 Book of Common Prayer\, with additions from the historical tradition—all of it is outlined in the bulletin.  \n\n\n\nFor more information about Sung Mass\, click here: Services \n\n\n\nThis service will be livestreamed on our YouTube channel.
URL:https://gracehartford.org/event/sung-mass-46/2030-07-21/
CATEGORIES:Services
END:VEVENT
BEGIN:VEVENT
DTSTART;TZID=America/New_York:20300725T093000
DTEND;TZID=America/New_York:20300725T113000
DTSTAMP:20260423T071659
CREATED:20241116T212959Z
LAST-MODIFIED:20241116T212959Z
UID:10001526-1911202200-1911209400@gracehartford.org
SUMMARY:Food Pantry Distribution
DESCRIPTION:
URL:https://gracehartford.org/event/food-pantry-distribution/2030-07-25/
END:VEVENT
BEGIN:VEVENT
DTSTART;TZID=America/New_York:20300728T080000
DTEND;TZID=America/New_York:20300728T090000
DTSTAMP:20260423T071659
CREATED:20241116T212959Z
LAST-MODIFIED:20241116T212959Z
UID:10001730-1911456000-1911459600@gracehartford.org
SUMMARY:Low Mass
DESCRIPTION:Preacher: TBA \n\n\n\nOur 8AM service is a Low Mass. We use Rite I from the 1979 Book of Common Prayer\, with additions from the historical tradition—all of it is outlined in the Bulletin. We leave room for silence and contemplation\, and there is no music at this service. A refreshing start to a Sunday. \n\n\n\nFor more information about Low Mass\, click here: Services
URL:https://gracehartford.org/event/low-mass/2030-07-28/
CATEGORIES:Services
END:VEVENT
BEGIN:VEVENT
DTSTART;TZID=America/New_York:20300728T103000
DTEND;TZID=America/New_York:20300728T120000
DTSTAMP:20260423T071659
CREATED:20250901T200048Z
LAST-MODIFIED:20250901T200049Z
UID:10001408-1911465000-1911470400@gracehartford.org
SUMMARY:Sung Mass
DESCRIPTION:Music: TBA \n\n\n\nPreacher: TBA \n\n\n\nOur 10:30 service is a Sung Mass or Solemn High Mass with music: organ\, choir\, and congregational singing. We use Rite I from the 1979 Book of Common Prayer\, with additions from the historical tradition—all of it is outlined in the bulletin.  \n\n\n\nFor more information about Sung Mass\, click here: Services \n\n\n\nThis service will be livestreamed on our YouTube channel.
URL:https://gracehartford.org/event/sung-mass-46/2030-07-28/
CATEGORIES:Services
END:VEVENT
BEGIN:VEVENT
DTSTART;TZID=America/New_York:20300801T093000
DTEND;TZID=America/New_York:20300801T113000
DTSTAMP:20260423T071659
CREATED:20241116T212959Z
LAST-MODIFIED:20241116T212959Z
UID:10001527-1911807000-1911814200@gracehartford.org
SUMMARY:Food Pantry Distribution
DESCRIPTION:
URL:https://gracehartford.org/event/food-pantry-distribution/2030-08-01/
END:VEVENT
BEGIN:VEVENT
DTSTART;TZID=America/New_York:20300804T080000
DTEND;TZID=America/New_York:20300804T090000
DTSTAMP:20260423T071659
CREATED:20241116T212959Z
LAST-MODIFIED:20241116T212959Z
UID:10001731-1912060800-1912064400@gracehartford.org
SUMMARY:Low Mass
DESCRIPTION:Preacher: TBA \n\n\n\nOur 8AM service is a Low Mass. We use Rite I from the 1979 Book of Common Prayer\, with additions from the historical tradition—all of it is outlined in the Bulletin. We leave room for silence and contemplation\, and there is no music at this service. A refreshing start to a Sunday. \n\n\n\nFor more information about Low Mass\, click here: Services
URL:https://gracehartford.org/event/low-mass/2030-08-04/
CATEGORIES:Services
END:VEVENT
BEGIN:VEVENT
DTSTART;TZID=America/New_York:20300804T103000
DTEND;TZID=America/New_York:20300804T120000
DTSTAMP:20260423T071659
CREATED:20250901T200048Z
LAST-MODIFIED:20250901T200049Z
UID:10001410-1912069800-1912075200@gracehartford.org
SUMMARY:Sung Mass
DESCRIPTION:Music: TBA \n\n\n\nPreacher: TBA \n\n\n\nOur 10:30 service is a Sung Mass or Solemn High Mass with music: organ\, choir\, and congregational singing. We use Rite I from the 1979 Book of Common Prayer\, with additions from the historical tradition—all of it is outlined in the bulletin.  \n\n\n\nFor more information about Sung Mass\, click here: Services \n\n\n\nThis service will be livestreamed on our YouTube channel.
URL:https://gracehartford.org/event/sung-mass-46/2030-08-04/
CATEGORIES:Services
END:VEVENT
BEGIN:VEVENT
DTSTART;TZID=America/New_York:20300808T093000
DTEND;TZID=America/New_York:20300808T113000
DTSTAMP:20260423T071659
CREATED:20241116T212959Z
LAST-MODIFIED:20241116T212959Z
UID:10001528-1912411800-1912419000@gracehartford.org
SUMMARY:Food Pantry Distribution
DESCRIPTION:
URL:https://gracehartford.org/event/food-pantry-distribution/2030-08-08/
END:VEVENT
BEGIN:VEVENT
DTSTART;TZID=America/New_York:20300811T080000
DTEND;TZID=America/New_York:20300811T090000
DTSTAMP:20260423T071659
CREATED:20241116T212959Z
LAST-MODIFIED:20241116T212959Z
UID:10001732-1912665600-1912669200@gracehartford.org
SUMMARY:Low Mass
DESCRIPTION:Preacher: TBA \n\n\n\nOur 8AM service is a Low Mass. We use Rite I from the 1979 Book of Common Prayer\, with additions from the historical tradition—all of it is outlined in the Bulletin. We leave room for silence and contemplation\, and there is no music at this service. A refreshing start to a Sunday. \n\n\n\nFor more information about Low Mass\, click here: Services
URL:https://gracehartford.org/event/low-mass/2030-08-11/
CATEGORIES:Services
END:VEVENT
END:VCALENDAR