BEGIN:VCALENDAR
VERSION:2.0
PRODID:-//Grace Episcopal Church, Hartford - ECPv6.15.11//NONSGML v1.0//EN
CALSCALE:GREGORIAN
METHOD:PUBLISH
X-WR-CALNAME:Grace Episcopal Church, Hartford
X-ORIGINAL-URL:https://gracehartford.org
X-WR-CALDESC:Events for Grace Episcopal Church, Hartford
REFRESH-INTERVAL;VALUE=DURATION:PT1H
X-Robots-Tag:noindex
X-PUBLISHED-TTL:PT1H
BEGIN:VTIMEZONE
TZID:America/New_York
BEGIN:DAYLIGHT
TZOFFSETFROM:-0500
TZOFFSETTO:-0400
TZNAME:EDT
DTSTART:20300310T070000
END:DAYLIGHT
BEGIN:STANDARD
TZOFFSETFROM:-0400
TZOFFSETTO:-0500
TZNAME:EST
DTSTART:20301103T060000
END:STANDARD
BEGIN:DAYLIGHT
TZOFFSETFROM:-0500
TZOFFSETTO:-0400
TZNAME:EDT
DTSTART:20310309T070000
END:DAYLIGHT
BEGIN:STANDARD
TZOFFSETFROM:-0400
TZOFFSETTO:-0500
TZNAME:EST
DTSTART:20311102T060000
END:STANDARD
BEGIN:DAYLIGHT
TZOFFSETFROM:-0500
TZOFFSETTO:-0400
TZNAME:EDT
DTSTART:20320314T070000
END:DAYLIGHT
BEGIN:STANDARD
TZOFFSETFROM:-0400
TZOFFSETTO:-0500
TZNAME:EST
DTSTART:20321107T060000
END:STANDARD
END:VTIMEZONE
BEGIN:VEVENT
DTSTART;TZID=America/New_York:20310330T103000
DTEND;TZID=America/New_York:20310330T120000
DTSTAMP:20260424T042003
CREATED:20250901T200048Z
LAST-MODIFIED:20250901T200049Z
UID:10001766-1932633000-1932638400@gracehartford.org
SUMMARY:Sung Mass
DESCRIPTION:Music: TBA \n\n\n\nPreacher: TBA \n\n\n\nOur 10:30 service is a Sung Mass or Solemn High Mass with music: organ\, choir\, and congregational singing. We use Rite I from the 1979 Book of Common Prayer\, with additions from the historical tradition—all of it is outlined in the bulletin.  \n\n\n\nFor more information about Sung Mass\, click here: Services \n\n\n\nThis service will be livestreamed on our YouTube channel.
URL:https://gracehartford.org/event/sung-mass-46/2031-03-30/
LOCATION:Connecticut
CATEGORIES:Services
END:VEVENT
BEGIN:VEVENT
DTSTART;TZID=America/New_York:20310406T103000
DTEND;TZID=America/New_York:20310406T120000
DTSTAMP:20260424T042003
CREATED:20250901T200048Z
LAST-MODIFIED:20250901T200049Z
UID:10001767-1933237800-1933243200@gracehartford.org
SUMMARY:Sung Mass
DESCRIPTION:Music: TBA \n\n\n\nPreacher: TBA \n\n\n\nOur 10:30 service is a Sung Mass or Solemn High Mass with music: organ\, choir\, and congregational singing. We use Rite I from the 1979 Book of Common Prayer\, with additions from the historical tradition—all of it is outlined in the bulletin.  \n\n\n\nFor more information about Sung Mass\, click here: Services \n\n\n\nThis service will be livestreamed on our YouTube channel.
URL:https://gracehartford.org/event/sung-mass-46/2031-04-06/
LOCATION:Connecticut
CATEGORIES:Services
END:VEVENT
BEGIN:VEVENT
DTSTART;TZID=America/New_York:20310413T103000
DTEND;TZID=America/New_York:20310413T120000
DTSTAMP:20260424T042003
CREATED:20250901T200048Z
LAST-MODIFIED:20250901T200049Z
UID:10001768-1933842600-1933848000@gracehartford.org
SUMMARY:Sung Mass
DESCRIPTION:Music: TBA \n\n\n\nPreacher: TBA \n\n\n\nOur 10:30 service is a Sung Mass or Solemn High Mass with music: organ\, choir\, and congregational singing. We use Rite I from the 1979 Book of Common Prayer\, with additions from the historical tradition—all of it is outlined in the bulletin.  \n\n\n\nFor more information about Sung Mass\, click here: Services \n\n\n\nThis service will be livestreamed on our YouTube channel.
URL:https://gracehartford.org/event/sung-mass-46/2031-04-13/
LOCATION:Connecticut
CATEGORIES:Services
END:VEVENT
END:VCALENDAR