BEGIN:VCALENDAR
VERSION:2.0
PRODID:-//Grace Episcopal Church, Hartford - ECPv6.15.11//NONSGML v1.0//EN
CALSCALE:GREGORIAN
METHOD:PUBLISH
X-ORIGINAL-URL:https://gracehartford.org
X-WR-CALDESC:Events for Grace Episcopal Church, Hartford
REFRESH-INTERVAL;VALUE=DURATION:PT1H
X-Robots-Tag:noindex
X-PUBLISHED-TTL:PT1H
BEGIN:VTIMEZONE
TZID:America/New_York
BEGIN:DAYLIGHT
TZOFFSETFROM:-0500
TZOFFSETTO:-0400
TZNAME:EDT
DTSTART:20290311T070000
END:DAYLIGHT
BEGIN:STANDARD
TZOFFSETFROM:-0400
TZOFFSETTO:-0500
TZNAME:EST
DTSTART:20291104T060000
END:STANDARD
BEGIN:DAYLIGHT
TZOFFSETFROM:-0500
TZOFFSETTO:-0400
TZNAME:EDT
DTSTART:20300310T070000
END:DAYLIGHT
BEGIN:STANDARD
TZOFFSETFROM:-0400
TZOFFSETTO:-0500
TZNAME:EST
DTSTART:20301103T060000
END:STANDARD
BEGIN:DAYLIGHT
TZOFFSETFROM:-0500
TZOFFSETTO:-0400
TZNAME:EDT
DTSTART:20310309T070000
END:DAYLIGHT
BEGIN:STANDARD
TZOFFSETFROM:-0400
TZOFFSETTO:-0500
TZNAME:EST
DTSTART:20311102T060000
END:STANDARD
END:VTIMEZONE
BEGIN:VEVENT
DTSTART;TZID=America/New_York:20300822T093000
DTEND;TZID=America/New_York:20300822T113000
DTSTAMP:20260423T163344
CREATED:20241116T212959Z
LAST-MODIFIED:20241116T212959Z
UID:10001530-1913621400-1913628600@gracehartford.org
SUMMARY:Food Pantry Distribution
DESCRIPTION:
URL:https://gracehartford.org/event/food-pantry-distribution/2030-08-22/
END:VEVENT
BEGIN:VEVENT
DTSTART;TZID=America/New_York:20300825T080000
DTEND;TZID=America/New_York:20300825T090000
DTSTAMP:20260423T163344
CREATED:20241116T212959Z
LAST-MODIFIED:20241116T212959Z
UID:10001734-1913875200-1913878800@gracehartford.org
SUMMARY:Low Mass
DESCRIPTION:Preacher: TBA \n\n\n\nOur 8AM service is a Low Mass. We use Rite I from the 1979 Book of Common Prayer\, with additions from the historical tradition—all of it is outlined in the Bulletin. We leave room for silence and contemplation\, and there is no music at this service. A refreshing start to a Sunday. \n\n\n\nFor more information about Low Mass\, click here: Services
URL:https://gracehartford.org/event/low-mass/2030-08-25/
CATEGORIES:Services
END:VEVENT
BEGIN:VEVENT
DTSTART;TZID=America/New_York:20300825T103000
DTEND;TZID=America/New_York:20300825T120000
DTSTAMP:20260423T163344
CREATED:20250901T200048Z
LAST-MODIFIED:20250901T200049Z
UID:10001414-1913884200-1913889600@gracehartford.org
SUMMARY:Sung Mass
DESCRIPTION:Music: TBA \n\n\n\nPreacher: TBA \n\n\n\nOur 10:30 service is a Sung Mass or Solemn High Mass with music: organ\, choir\, and congregational singing. We use Rite I from the 1979 Book of Common Prayer\, with additions from the historical tradition—all of it is outlined in the bulletin.  \n\n\n\nFor more information about Sung Mass\, click here: Services \n\n\n\nThis service will be livestreamed on our YouTube channel.
URL:https://gracehartford.org/event/sung-mass-46/2030-08-25/
CATEGORIES:Services
END:VEVENT
BEGIN:VEVENT
DTSTART;TZID=America/New_York:20300829T093000
DTEND;TZID=America/New_York:20300829T113000
DTSTAMP:20260423T163344
CREATED:20241116T212959Z
LAST-MODIFIED:20241116T212959Z
UID:10001531-1914226200-1914233400@gracehartford.org
SUMMARY:Food Pantry Distribution
DESCRIPTION:
URL:https://gracehartford.org/event/food-pantry-distribution/2030-08-29/
END:VEVENT
BEGIN:VEVENT
DTSTART;TZID=America/New_York:20300901T080000
DTEND;TZID=America/New_York:20300901T090000
DTSTAMP:20260423T163344
CREATED:20241116T212959Z
LAST-MODIFIED:20241116T212959Z
UID:10001735-1914480000-1914483600@gracehartford.org
SUMMARY:Low Mass
DESCRIPTION:Preacher: TBA \n\n\n\nOur 8AM service is a Low Mass. We use Rite I from the 1979 Book of Common Prayer\, with additions from the historical tradition—all of it is outlined in the Bulletin. We leave room for silence and contemplation\, and there is no music at this service. A refreshing start to a Sunday. \n\n\n\nFor more information about Low Mass\, click here: Services
URL:https://gracehartford.org/event/low-mass/2030-09-01/
CATEGORIES:Services
END:VEVENT
BEGIN:VEVENT
DTSTART;TZID=America/New_York:20300901T103000
DTEND;TZID=America/New_York:20300901T120000
DTSTAMP:20260423T163344
CREATED:20250901T200048Z
LAST-MODIFIED:20250901T200049Z
UID:10001416-1914489000-1914494400@gracehartford.org
SUMMARY:Sung Mass
DESCRIPTION:Music: TBA \n\n\n\nPreacher: TBA \n\n\n\nOur 10:30 service is a Sung Mass or Solemn High Mass with music: organ\, choir\, and congregational singing. We use Rite I from the 1979 Book of Common Prayer\, with additions from the historical tradition—all of it is outlined in the bulletin.  \n\n\n\nFor more information about Sung Mass\, click here: Services \n\n\n\nThis service will be livestreamed on our YouTube channel.
URL:https://gracehartford.org/event/sung-mass-46/2030-09-01/
CATEGORIES:Services
END:VEVENT
BEGIN:VEVENT
DTSTART;TZID=America/New_York:20300905T093000
DTEND;TZID=America/New_York:20300905T113000
DTSTAMP:20260423T163344
CREATED:20241116T212959Z
LAST-MODIFIED:20241116T212959Z
UID:10001532-1914831000-1914838200@gracehartford.org
SUMMARY:Food Pantry Distribution
DESCRIPTION:
URL:https://gracehartford.org/event/food-pantry-distribution/2030-09-05/
END:VEVENT
BEGIN:VEVENT
DTSTART;TZID=America/New_York:20300908T080000
DTEND;TZID=America/New_York:20300908T090000
DTSTAMP:20260423T163344
CREATED:20241116T212959Z
LAST-MODIFIED:20241116T212959Z
UID:10001736-1915084800-1915088400@gracehartford.org
SUMMARY:Low Mass
DESCRIPTION:Preacher: TBA \n\n\n\nOur 8AM service is a Low Mass. We use Rite I from the 1979 Book of Common Prayer\, with additions from the historical tradition—all of it is outlined in the Bulletin. We leave room for silence and contemplation\, and there is no music at this service. A refreshing start to a Sunday. \n\n\n\nFor more information about Low Mass\, click here: Services
URL:https://gracehartford.org/event/low-mass/2030-09-08/
CATEGORIES:Services
END:VEVENT
BEGIN:VEVENT
DTSTART;TZID=America/New_York:20300908T103000
DTEND;TZID=America/New_York:20300908T120000
DTSTAMP:20260423T163344
CREATED:20250901T200048Z
LAST-MODIFIED:20250901T200049Z
UID:10001417-1915093800-1915099200@gracehartford.org
SUMMARY:Sung Mass
DESCRIPTION:Music: TBA \n\n\n\nPreacher: TBA \n\n\n\nOur 10:30 service is a Sung Mass or Solemn High Mass with music: organ\, choir\, and congregational singing. We use Rite I from the 1979 Book of Common Prayer\, with additions from the historical tradition—all of it is outlined in the bulletin.  \n\n\n\nFor more information about Sung Mass\, click here: Services \n\n\n\nThis service will be livestreamed on our YouTube channel.
URL:https://gracehartford.org/event/sung-mass-46/2030-09-08/
CATEGORIES:Services
END:VEVENT
BEGIN:VEVENT
DTSTART;TZID=America/New_York:20300912T093000
DTEND;TZID=America/New_York:20300912T113000
DTSTAMP:20260423T163344
CREATED:20241116T212959Z
LAST-MODIFIED:20241116T212959Z
UID:10001533-1915435800-1915443000@gracehartford.org
SUMMARY:Food Pantry Distribution
DESCRIPTION:
URL:https://gracehartford.org/event/food-pantry-distribution/2030-09-12/
END:VEVENT
BEGIN:VEVENT
DTSTART;TZID=America/New_York:20300915T080000
DTEND;TZID=America/New_York:20300915T090000
DTSTAMP:20260423T163344
CREATED:20241116T212959Z
LAST-MODIFIED:20241116T212959Z
UID:10001737-1915689600-1915693200@gracehartford.org
SUMMARY:Low Mass
DESCRIPTION:Preacher: TBA \n\n\n\nOur 8AM service is a Low Mass. We use Rite I from the 1979 Book of Common Prayer\, with additions from the historical tradition—all of it is outlined in the Bulletin. We leave room for silence and contemplation\, and there is no music at this service. A refreshing start to a Sunday. \n\n\n\nFor more information about Low Mass\, click here: Services
URL:https://gracehartford.org/event/low-mass/2030-09-15/
CATEGORIES:Services
END:VEVENT
BEGIN:VEVENT
DTSTART;TZID=America/New_York:20300915T103000
DTEND;TZID=America/New_York:20300915T120000
DTSTAMP:20260423T163344
CREATED:20250901T200048Z
LAST-MODIFIED:20250901T200049Z
UID:10001420-1915698600-1915704000@gracehartford.org
SUMMARY:Sung Mass
DESCRIPTION:Music: TBA \n\n\n\nPreacher: TBA \n\n\n\nOur 10:30 service is a Sung Mass or Solemn High Mass with music: organ\, choir\, and congregational singing. We use Rite I from the 1979 Book of Common Prayer\, with additions from the historical tradition—all of it is outlined in the bulletin.  \n\n\n\nFor more information about Sung Mass\, click here: Services \n\n\n\nThis service will be livestreamed on our YouTube channel.
URL:https://gracehartford.org/event/sung-mass-46/2030-09-15/
CATEGORIES:Services
END:VEVENT
BEGIN:VEVENT
DTSTART;TZID=America/New_York:20300919T093000
DTEND;TZID=America/New_York:20300919T113000
DTSTAMP:20260423T163344
CREATED:20241116T212959Z
LAST-MODIFIED:20241116T212959Z
UID:10001534-1916040600-1916047800@gracehartford.org
SUMMARY:Food Pantry Distribution
DESCRIPTION:
URL:https://gracehartford.org/event/food-pantry-distribution/2030-09-19/
END:VEVENT
BEGIN:VEVENT
DTSTART;TZID=America/New_York:20300920T100000
DTEND;TZID=America/New_York:20300920T110000
DTSTAMP:20260423T163344
CREATED:20260221T173645Z
LAST-MODIFIED:20260221T173736Z
UID:10001684-1916128800-1916132400@gracehartford.org
SUMMARY:Vestry Meeting
DESCRIPTION:
URL:https://gracehartford.org/event/vestry-meeting-6/2030-09-20/
LOCATION:Grace Episcopal Church\, 55 New Park Avenue\, Hartford\, Connecticut\, 06106-2123\, United States
END:VEVENT
BEGIN:VEVENT
DTSTART;TZID=America/New_York:20300922T080000
DTEND;TZID=America/New_York:20300922T090000
DTSTAMP:20260423T163344
CREATED:20241116T212959Z
LAST-MODIFIED:20241116T212959Z
UID:10001738-1916294400-1916298000@gracehartford.org
SUMMARY:Low Mass
DESCRIPTION:Preacher: TBA \n\n\n\nOur 8AM service is a Low Mass. We use Rite I from the 1979 Book of Common Prayer\, with additions from the historical tradition—all of it is outlined in the Bulletin. We leave room for silence and contemplation\, and there is no music at this service. A refreshing start to a Sunday. \n\n\n\nFor more information about Low Mass\, click here: Services
URL:https://gracehartford.org/event/low-mass/2030-09-22/
CATEGORIES:Services
END:VEVENT
BEGIN:VEVENT
DTSTART;TZID=America/New_York:20300922T103000
DTEND;TZID=America/New_York:20300922T120000
DTSTAMP:20260423T163344
CREATED:20250901T200048Z
LAST-MODIFIED:20250901T200049Z
UID:10001422-1916303400-1916308800@gracehartford.org
SUMMARY:Sung Mass
DESCRIPTION:Music: TBA \n\n\n\nPreacher: TBA \n\n\n\nOur 10:30 service is a Sung Mass or Solemn High Mass with music: organ\, choir\, and congregational singing. We use Rite I from the 1979 Book of Common Prayer\, with additions from the historical tradition—all of it is outlined in the bulletin.  \n\n\n\nFor more information about Sung Mass\, click here: Services \n\n\n\nThis service will be livestreamed on our YouTube channel.
URL:https://gracehartford.org/event/sung-mass-46/2030-09-22/
CATEGORIES:Services
END:VEVENT
BEGIN:VEVENT
DTSTART;TZID=America/New_York:20300926T093000
DTEND;TZID=America/New_York:20300926T113000
DTSTAMP:20260423T163344
CREATED:20241116T212959Z
LAST-MODIFIED:20241116T212959Z
UID:10001535-1916645400-1916652600@gracehartford.org
SUMMARY:Food Pantry Distribution
DESCRIPTION:
URL:https://gracehartford.org/event/food-pantry-distribution/2030-09-26/
END:VEVENT
BEGIN:VEVENT
DTSTART;TZID=America/New_York:20300929T080000
DTEND;TZID=America/New_York:20300929T090000
DTSTAMP:20260423T163344
CREATED:20241116T212959Z
LAST-MODIFIED:20241116T212959Z
UID:10001739-1916899200-1916902800@gracehartford.org
SUMMARY:Low Mass
DESCRIPTION:Preacher: TBA \n\n\n\nOur 8AM service is a Low Mass. We use Rite I from the 1979 Book of Common Prayer\, with additions from the historical tradition—all of it is outlined in the Bulletin. We leave room for silence and contemplation\, and there is no music at this service. A refreshing start to a Sunday. \n\n\n\nFor more information about Low Mass\, click here: Services
URL:https://gracehartford.org/event/low-mass/2030-09-29/
CATEGORIES:Services
END:VEVENT
BEGIN:VEVENT
DTSTART;TZID=America/New_York:20300929T103000
DTEND;TZID=America/New_York:20300929T120000
DTSTAMP:20260423T163344
CREATED:20250901T200048Z
LAST-MODIFIED:20250901T200049Z
UID:10001423-1916908200-1916913600@gracehartford.org
SUMMARY:Sung Mass
DESCRIPTION:Music: TBA \n\n\n\nPreacher: TBA \n\n\n\nOur 10:30 service is a Sung Mass or Solemn High Mass with music: organ\, choir\, and congregational singing. We use Rite I from the 1979 Book of Common Prayer\, with additions from the historical tradition—all of it is outlined in the bulletin.  \n\n\n\nFor more information about Sung Mass\, click here: Services \n\n\n\nThis service will be livestreamed on our YouTube channel.
URL:https://gracehartford.org/event/sung-mass-46/2030-09-29/
CATEGORIES:Services
END:VEVENT
BEGIN:VEVENT
DTSTART;TZID=America/New_York:20301003T093000
DTEND;TZID=America/New_York:20301003T113000
DTSTAMP:20260423T163344
CREATED:20241116T212959Z
LAST-MODIFIED:20241116T212959Z
UID:10001536-1917250200-1917257400@gracehartford.org
SUMMARY:Food Pantry Distribution
DESCRIPTION:
URL:https://gracehartford.org/event/food-pantry-distribution/2030-10-03/
END:VEVENT
BEGIN:VEVENT
DTSTART;TZID=America/New_York:20301006T080000
DTEND;TZID=America/New_York:20301006T090000
DTSTAMP:20260423T163344
CREATED:20241116T212959Z
LAST-MODIFIED:20241116T212959Z
UID:10001740-1917504000-1917507600@gracehartford.org
SUMMARY:Low Mass
DESCRIPTION:Preacher: TBA \n\n\n\nOur 8AM service is a Low Mass. We use Rite I from the 1979 Book of Common Prayer\, with additions from the historical tradition—all of it is outlined in the Bulletin. We leave room for silence and contemplation\, and there is no music at this service. A refreshing start to a Sunday. \n\n\n\nFor more information about Low Mass\, click here: Services
URL:https://gracehartford.org/event/low-mass/2030-10-06/
CATEGORIES:Services
END:VEVENT
BEGIN:VEVENT
DTSTART;TZID=America/New_York:20301006T103000
DTEND;TZID=America/New_York:20301006T120000
DTSTAMP:20260423T163344
CREATED:20250901T200048Z
LAST-MODIFIED:20250901T200049Z
UID:10001424-1917513000-1917518400@gracehartford.org
SUMMARY:Sung Mass
DESCRIPTION:Music: TBA \n\n\n\nPreacher: TBA \n\n\n\nOur 10:30 service is a Sung Mass or Solemn High Mass with music: organ\, choir\, and congregational singing. We use Rite I from the 1979 Book of Common Prayer\, with additions from the historical tradition—all of it is outlined in the bulletin.  \n\n\n\nFor more information about Sung Mass\, click here: Services \n\n\n\nThis service will be livestreamed on our YouTube channel.
URL:https://gracehartford.org/event/sung-mass-46/2030-10-06/
CATEGORIES:Services
END:VEVENT
BEGIN:VEVENT
DTSTART;TZID=America/New_York:20301010T093000
DTEND;TZID=America/New_York:20301010T113000
DTSTAMP:20260423T163344
CREATED:20241116T212959Z
LAST-MODIFIED:20241116T212959Z
UID:10001537-1917855000-1917862200@gracehartford.org
SUMMARY:Food Pantry Distribution
DESCRIPTION:
URL:https://gracehartford.org/event/food-pantry-distribution/2030-10-10/
END:VEVENT
BEGIN:VEVENT
DTSTART;TZID=America/New_York:20301013T080000
DTEND;TZID=America/New_York:20301013T090000
DTSTAMP:20260423T163344
CREATED:20241116T212959Z
LAST-MODIFIED:20241116T212959Z
UID:10001741-1918108800-1918112400@gracehartford.org
SUMMARY:Low Mass
DESCRIPTION:Preacher: TBA \n\n\n\nOur 8AM service is a Low Mass. We use Rite I from the 1979 Book of Common Prayer\, with additions from the historical tradition—all of it is outlined in the Bulletin. We leave room for silence and contemplation\, and there is no music at this service. A refreshing start to a Sunday. \n\n\n\nFor more information about Low Mass\, click here: Services
URL:https://gracehartford.org/event/low-mass/2030-10-13/
CATEGORIES:Services
END:VEVENT
BEGIN:VEVENT
DTSTART;TZID=America/New_York:20301013T103000
DTEND;TZID=America/New_York:20301013T120000
DTSTAMP:20260423T163344
CREATED:20250901T200048Z
LAST-MODIFIED:20250901T200049Z
UID:10001425-1918117800-1918123200@gracehartford.org
SUMMARY:Sung Mass
DESCRIPTION:Music: TBA \n\n\n\nPreacher: TBA \n\n\n\nOur 10:30 service is a Sung Mass or Solemn High Mass with music: organ\, choir\, and congregational singing. We use Rite I from the 1979 Book of Common Prayer\, with additions from the historical tradition—all of it is outlined in the bulletin.  \n\n\n\nFor more information about Sung Mass\, click here: Services \n\n\n\nThis service will be livestreamed on our YouTube channel.
URL:https://gracehartford.org/event/sung-mass-46/2030-10-13/
CATEGORIES:Services
END:VEVENT
BEGIN:VEVENT
DTSTART;TZID=America/New_York:20301017T093000
DTEND;TZID=America/New_York:20301017T113000
DTSTAMP:20260423T163344
CREATED:20241116T212959Z
LAST-MODIFIED:20241116T212959Z
UID:10001538-1918459800-1918467000@gracehartford.org
SUMMARY:Food Pantry Distribution
DESCRIPTION:
URL:https://gracehartford.org/event/food-pantry-distribution/2030-10-17/
END:VEVENT
BEGIN:VEVENT
DTSTART;TZID=America/New_York:20301018T100000
DTEND;TZID=America/New_York:20301018T110000
DTSTAMP:20260423T163344
CREATED:20260221T173645Z
LAST-MODIFIED:20260221T173736Z
UID:10001685-1918548000-1918551600@gracehartford.org
SUMMARY:Vestry Meeting
DESCRIPTION:
URL:https://gracehartford.org/event/vestry-meeting-6/2030-10-18/
LOCATION:Grace Episcopal Church\, 55 New Park Avenue\, Hartford\, Connecticut\, 06106-2123\, United States
END:VEVENT
BEGIN:VEVENT
DTSTART;TZID=America/New_York:20301020T080000
DTEND;TZID=America/New_York:20301020T090000
DTSTAMP:20260423T163344
CREATED:20241116T212959Z
LAST-MODIFIED:20241116T212959Z
UID:10001742-1918713600-1918717200@gracehartford.org
SUMMARY:Low Mass
DESCRIPTION:Preacher: TBA \n\n\n\nOur 8AM service is a Low Mass. We use Rite I from the 1979 Book of Common Prayer\, with additions from the historical tradition—all of it is outlined in the Bulletin. We leave room for silence and contemplation\, and there is no music at this service. A refreshing start to a Sunday. \n\n\n\nFor more information about Low Mass\, click here: Services
URL:https://gracehartford.org/event/low-mass/2030-10-20/
CATEGORIES:Services
END:VEVENT
BEGIN:VEVENT
DTSTART;TZID=America/New_York:20301020T103000
DTEND;TZID=America/New_York:20301020T120000
DTSTAMP:20260423T163344
CREATED:20250901T200048Z
LAST-MODIFIED:20250901T200049Z
UID:10001426-1918722600-1918728000@gracehartford.org
SUMMARY:Sung Mass
DESCRIPTION:Music: TBA \n\n\n\nPreacher: TBA \n\n\n\nOur 10:30 service is a Sung Mass or Solemn High Mass with music: organ\, choir\, and congregational singing. We use Rite I from the 1979 Book of Common Prayer\, with additions from the historical tradition—all of it is outlined in the bulletin.  \n\n\n\nFor more information about Sung Mass\, click here: Services \n\n\n\nThis service will be livestreamed on our YouTube channel.
URL:https://gracehartford.org/event/sung-mass-46/2030-10-20/
CATEGORIES:Services
END:VEVENT
BEGIN:VEVENT
DTSTART;TZID=America/New_York:20301024T093000
DTEND;TZID=America/New_York:20301024T113000
DTSTAMP:20260423T163344
CREATED:20241116T212959Z
LAST-MODIFIED:20241116T212959Z
UID:10001539-1919064600-1919071800@gracehartford.org
SUMMARY:Food Pantry Distribution
DESCRIPTION:
URL:https://gracehartford.org/event/food-pantry-distribution/2030-10-24/
END:VEVENT
END:VCALENDAR