BEGIN:VCALENDAR
VERSION:2.0
PRODID:-//Grace Episcopal Church, Hartford - ECPv6.15.11//NONSGML v1.0//EN
CALSCALE:GREGORIAN
METHOD:PUBLISH
X-ORIGINAL-URL:https://gracehartford.org
X-WR-CALDESC:Events for Grace Episcopal Church, Hartford
REFRESH-INTERVAL;VALUE=DURATION:PT1H
X-Robots-Tag:noindex
X-PUBLISHED-TTL:PT1H
BEGIN:VTIMEZONE
TZID:America/New_York
BEGIN:DAYLIGHT
TZOFFSETFROM:-0500
TZOFFSETTO:-0400
TZNAME:EDT
DTSTART:20240310T070000
END:DAYLIGHT
BEGIN:STANDARD
TZOFFSETFROM:-0400
TZOFFSETTO:-0500
TZNAME:EST
DTSTART:20241103T060000
END:STANDARD
BEGIN:DAYLIGHT
TZOFFSETFROM:-0500
TZOFFSETTO:-0400
TZNAME:EDT
DTSTART:20250309T070000
END:DAYLIGHT
BEGIN:STANDARD
TZOFFSETFROM:-0400
TZOFFSETTO:-0500
TZNAME:EST
DTSTART:20251102T060000
END:STANDARD
BEGIN:DAYLIGHT
TZOFFSETFROM:-0500
TZOFFSETTO:-0400
TZNAME:EDT
DTSTART:20260308T070000
END:DAYLIGHT
BEGIN:STANDARD
TZOFFSETFROM:-0400
TZOFFSETTO:-0500
TZNAME:EST
DTSTART:20261101T060000
END:STANDARD
END:VTIMEZONE
BEGIN:VEVENT
DTSTART;TZID=America/New_York:20251130T000000
DTEND;TZID=America/New_York:20251130T235959
DTSTAMP:20260424T114202
CREATED:20241013T223034Z
LAST-MODIFIED:20241116T212813Z
UID:10001213-1764460800-1764547199@gracehartford.org
SUMMARY:The First Sunday of Advent
DESCRIPTION:Year A / IIPurple or BluePsalm 122Isaiah 2:1-5Romans 13:11-14Matthew 24:36-44
URL:https://gracehartford.org/event/the-first-sunday-of-advent-2/
CATEGORIES:Liturgical Calendar
END:VEVENT
BEGIN:VEVENT
DTSTART;TZID=America/New_York:20251130T000000
DTEND;TZID=America/New_York:20251130T235959
DTSTAMP:20260424T114202
CREATED:20241013T223035Z
LAST-MODIFIED:20241116T212812Z
UID:10001214-1764460800-1764547199@gracehartford.org
SUMMARY:Saint Andrew the Apostle
DESCRIPTION:Year A / IIAdventRedPsalm 19 or Psalm 19:1-6Deuteronomy 30:11-14Romans 10:8b-18Matthew 4:18-22
URL:https://gracehartford.org/event/saint-andrew-the-apostle-2/
CATEGORIES:Liturgical Calendar
END:VEVENT
END:VCALENDAR